BEGIN:VCALENDAR
VERSION:2.0
PRODID:-//hacksw/handcal//NONSGML v1.0//EN
BEGIN:VEVENT
DTSTART:20200228T083000
DTEND:20200228T110000
LOCATION:IPAG Paris - Salle S24 \n184 bd Saint-Germain \n75006 Paris
ORGANIZER;CN=Sylvie PERDON:MAILTO:s.perdon@ipag.fr
SUMMARY:La méthode OPEX® pour devenir un négociateur d'élite
DESCRIPTION:Le Morning Business IPAG Alumni du vendredi 28 février, vous propose de devenir un Négociateur d'Élite grâce à la méthode OPEX®, tirée du RAID, du GIGN et des forces spéciales, autant dire un condensé...
URL:https://www.ipag-alumni.com/en/event/la-methode-opex-pour-devenir-un-negociateur-d-elite/2020/02/28/648
BEGIN:VALARM
TRIGGER:-P0DT1H0M0S
ACTION:DISPLAY
END:VALARM
END:VEVENT
END:VCALENDAR