BEGIN:VCALENDAR
VERSION:2.0
PRODID:-//hacksw/handcal//NONSGML v1.0//EN
BEGIN:VEVENT
DTSTART:20201101T235500
DTEND:20201231T000000
LOCATION:Online
ORGANIZER;CN=Sylvie PERDON:MAILTO:s.perdon@ipag.fr
SUMMARY:Webinars : les replays
DESCRIPTION:Pour voir ou revoir les webinars proposés depuis quelques mois !\nVendredi 6 novembre\nTélétravail : Manager en toute confiance\nLe replay\nVendredi 2 octobre\nRéussir sa reconversion\nLe...
URL:https://www.ipag-alumni.com/en/event/webinars-les-replays/2020/11/01/689
BEGIN:VALARM
TRIGGER:-P0DT1H0M0S
ACTION:DISPLAY
END:VALARM
END:VEVENT
END:VCALENDAR