BEGIN:VCALENDAR
VERSION:2.0
PRODID:-//hacksw/handcal//NONSGML v1.0//EN
BEGIN:VEVENT
DTSTART:20260506T110000
DTEND:20260506T120000
LOCATION:
ORGANIZER;CN=Sylvie PERDON:MAILTO:s.perdon@ipag.fr
SUMMARY:Conflits intergénérationnels : une question de personnalité ou d'âge ?
DESCRIPTION:Les tensions au travail sont souvent interprétées comme des conflits entre générations. En réalité, elles viennent surtout de différences de styles comportementaux entre individus. Lorsque ces...
URL:https://www.ipag-alumni.com/fr/event/conflits-intergenerationnels-une-question-de-personnalite-ou-d-age/2026/05/06/911
BEGIN:VALARM
TRIGGER:-P0DT1H0M0S
ACTION:DISPLAY
END:VALARM
END:VEVENT
END:VCALENDAR